
BEGIN:VCALENDAR
VERSION:2.0
PRODID:-//Traders Village - ECPv6.15.20//NONSGML v1.0//EN
CALSCALE:GREGORIAN
METHOD:PUBLISH
X-ORIGINAL-URL:https://tradersvillage.com
X-WR-CALDESC:Events for Traders Village
REFRESH-INTERVAL;VALUE=DURATION:PT1H
X-Robots-Tag:noindex
X-PUBLISHED-TTL:PT1H
BEGIN:VTIMEZONE
TZID:UTC
BEGIN:STANDARD
TZOFFSETFROM:+0000
TZOFFSETTO:+0000
TZNAME:UTC
DTSTART:20220101T000000
END:STANDARD
END:VTIMEZONE
BEGIN:VEVENT
DTSTART;VALUE=DATE:20230626
DTEND;VALUE=DATE:20230821
DTSTAMP:20260421T041347
CREATED:20230722T015304Z
LAST-MODIFIED:20240726T064612Z
UID:2215-1687737600-1692575999@tradersvillage.com
SUMMARY:Summer Sundays - Music and karaoke under the Gray Expo!
DESCRIPTION:Summer Sundays at Traders Village Houston! Enjoy music while drinking a michelada\, margarita\, or beer under the Gray Expo! \nBilingual karaoke hosted by local artist Nancy Ilyria \n12pm to 4pm \n$5 parking
URL:https://tradersvillage.com/category/events/summer-sundays-under-the-gray-expo/
LOCATION:Gray Expo\, 7979 N. Eldridge Parkway\, Houston\, TX\, 77041
CATEGORIES:Houston
ATTACH;FMTTYPE=image/jpeg:https://tradersvillage.com/wp-content/uploads/2023/07/GRAY-EXPO.jpg
END:VEVENT
BEGIN:VEVENT
DTSTART;VALUE=DATE:20230709
DTEND;VALUE=DATE:20230814
DTSTAMP:20260421T041347
CREATED:20230708T004943Z
LAST-MODIFIED:20230808T235451Z
UID:1989-1688860800-1691971199@tradersvillage.com
SUMMARY:SUMMER SUNDAY'S - MUSIC UNDER THE RED!
DESCRIPTION:Summer Sunday’s at Traders Village Grand Prairie! Enjoy music while drinking a michelada\, margarita\, or beer under the Big Red Patio!
URL:https://tradersvillage.com/category/events/summer-sundays-music-under-the-red/
LOCATION:Traders Village Grand Prairie\, 2602 Mayfield Road\, Grand Prairie\, TX\, 75052\, United States
CATEGORIES:Grand Prairie
ATTACH;FMTTYPE=image/jpeg:https://tradersvillage.com/wp-content/uploads/2023/07/TVGP_Summer-Sunday_07_23_440x200-1.jpg
END:VEVENT
BEGIN:VEVENT
DTSTART;VALUE=DATE:20230806
DTEND;VALUE=DATE:20230807
DTSTAMP:20260421T041347
CREATED:20230731T223812Z
LAST-MODIFIED:20230731T223812Z
UID:2343-1691280000-1691366399@tradersvillage.com
SUMMARY:Ben Meyer | Traders Hall
DESCRIPTION:Join Country Music artist — Ben Meyer inside Traders Hall | Sunday\, Aug. 6th from 1 pm – 5 pm. \nThrow on those boots and get ready to do some dancin! \nTake a break from shopping at Traders Village and sit a spell inside Traders Hall.  You’ll hear incredible music from Ben Meyer and you can enjoy an ice-cold Draft Beer or pick up a 32 oz Michelada for ONLY $10.99. \nAdmission: FREE\nParking: $5
URL:https://tradersvillage.com/category/events/ben-meyer-traders-hall/
LOCATION:TX
CATEGORIES:San Antonio
ATTACH;FMTTYPE=image/jpeg:https://tradersvillage.com/wp-content/uploads/2023/07/Ben_Meyer_Leader.jpg
END:VEVENT
BEGIN:VEVENT
DTSTART;TZID=UTC:20230806T080000
DTEND;TZID=UTC:20230806T170000
DTSTAMP:20260421T041347
CREATED:20230806T200948Z
LAST-MODIFIED:20230806T200948Z
UID:2365-1691308800-1691341200@tradersvillage.com
SUMMARY:SHARK EVENT
DESCRIPTION:Join Dinosaur George Today at his Museum located on 11th St & Ave D.\n\n\n\nDig in their fossil beach for shark teeth\, whale bones and more.\n\nTake a FREE photos standing in the jaws of the Mighty Megalodon.\n\n\n\n\nAsk questions with a marine fossil expert\, and win freebies including tickets to Meg: 2–The Trench. \nDon’t forget to stop inside and see the World’s ONLY Teenage T-Rex — TINKER!
URL:https://tradersvillage.com/category/events/shark-event/
LOCATION:TX
CATEGORIES:San Antonio
ATTACH;FMTTYPE=image/jpeg:https://tradersvillage.com/wp-content/uploads/2023/08/Shark_Leader.jpg
END:VEVENT
END:VCALENDAR