
BEGIN:VCALENDAR
VERSION:2.0
PRODID:-//Traders Village - ECPv6.15.20//NONSGML v1.0//EN
CALSCALE:GREGORIAN
METHOD:PUBLISH
X-ORIGINAL-URL:https://tradersvillage.com
X-WR-CALDESC:Events for Traders Village
REFRESH-INTERVAL;VALUE=DURATION:PT1H
X-Robots-Tag:noindex
X-PUBLISHED-TTL:PT1H
BEGIN:VTIMEZONE
TZID:UTC
BEGIN:STANDARD
TZOFFSETFROM:+0000
TZOFFSETTO:+0000
TZNAME:UTC
DTSTART:20220101T000000
END:STANDARD
END:VTIMEZONE
BEGIN:VEVENT
DTSTART;VALUE=DATE:20230826
DTEND;VALUE=DATE:20230827
DTSTAMP:20260421T041524
CREATED:20230713T221319Z
LAST-MODIFIED:20230826T212334Z
UID:2112-1693008000-1693094399@tradersvillage.com
SUMMARY:Blood In Blood Out | 30th Anniversary
DESCRIPTION:Meet Damian Chapa “Miklo” & Victor Rivers “Magic” from Blood In Blood Out as they celebrate the 30th Anniversary. Cash or Cash App accepted.\nSaturday-Sunday | August 26-27\, 2023\n10AM – 5pm | Red Patio \nView More
URL:https://tradersvillage.com/category/events/meet-damian-chapa-miklo-from-blood-in-blood-out/
LOCATION:Traders Village Grand Prairie\, 2602 Mayfield Road\, Grand Prairie\, TX\, 75052\, United States
CATEGORIES:Grand Prairie
ATTACH;FMTTYPE=image/jpeg:https://tradersvillage.com/wp-content/uploads/2023/07/BIBO_Lead-1.jpg
END:VEVENT
END:VCALENDAR