
BEGIN:VCALENDAR
VERSION:2.0
PRODID:-//Traders Village - ECPv6.15.20//NONSGML v1.0//EN
CALSCALE:GREGORIAN
METHOD:PUBLISH
X-ORIGINAL-URL:https://tradersvillage.com
X-WR-CALDESC:Events for Traders Village
REFRESH-INTERVAL;VALUE=DURATION:PT1H
X-Robots-Tag:noindex
X-PUBLISHED-TTL:PT1H
BEGIN:VTIMEZONE
TZID:UTC
BEGIN:STANDARD
TZOFFSETFROM:+0000
TZOFFSETTO:+0000
TZNAME:UTC
DTSTART:20220101T000000
END:STANDARD
END:VTIMEZONE
BEGIN:VTIMEZONE
TZID:America/Chicago
BEGIN:DAYLIGHT
TZOFFSETFROM:-0600
TZOFFSETTO:-0500
TZNAME:CDT
DTSTART:20220313T080000
END:DAYLIGHT
BEGIN:STANDARD
TZOFFSETFROM:-0500
TZOFFSETTO:-0600
TZNAME:CST
DTSTART:20221106T070000
END:STANDARD
BEGIN:DAYLIGHT
TZOFFSETFROM:-0600
TZOFFSETTO:-0500
TZNAME:CDT
DTSTART:20230312T080000
END:DAYLIGHT
BEGIN:STANDARD
TZOFFSETFROM:-0500
TZOFFSETTO:-0600
TZNAME:CST
DTSTART:20231105T070000
END:STANDARD
BEGIN:DAYLIGHT
TZOFFSETFROM:-0600
TZOFFSETTO:-0500
TZNAME:CDT
DTSTART:20240310T080000
END:DAYLIGHT
BEGIN:STANDARD
TZOFFSETFROM:-0500
TZOFFSETTO:-0600
TZNAME:CST
DTSTART:20241103T070000
END:STANDARD
END:VTIMEZONE
BEGIN:VEVENT
DTSTART;VALUE=DATE:20230827
DTEND;VALUE=DATE:20231017
DTSTAMP:20260421T164643
CREATED:20230509T185200Z
LAST-MODIFIED:20231009T210049Z
UID:903-1693094400-1697500799@tradersvillage.com
SUMMARY:Meet TINKER the Teenage T-Rex
DESCRIPTION:Visit the Dinosaur George Museum this weekend at Traders Village.\nCHECK OUT OUR LATEST ADDITION: TINKER THE TEENAGE T-REX \nJoin Dinosaur George as he reveals the ONLY Teenage T-Rex in the WORLD EXCLUSIVELY at The Dinosaur George Museum & Gift Shop inside of Traders Village. (12th St & Ave. D) \nTinker will only be here for a limited time\, so don’t miss out. Tinker was discovered in 1998 from the Hell Creek Formation in northwestern South Dakota and is thought to be the first nearly complete juvenile/sub adult T. rex ever found at 70% complete. \nTinker is 2/3rds adult size but only 1/4th adult weight. In “people years”\, Tinker was probably a young teenager\, about 13 years old. \nAdmission to the Dinosaur Museum is FREE. \nThank you 550 KTSA for covering the story! CLICK HERE \nJust come in and enjoy.\nDinosaur George wants to nurture everyone’s love for DINOS.\nHe also has inexpensive dinosaur merchandise for kids\, toys and trinkets. As well as fossils and gems to purchase.
URL:https://tradersvillage.com/event/dinosaur-george-museum/
LOCATION:TX
CATEGORIES:San Antonio
ATTACH;FMTTYPE=image/jpeg:https://tradersvillage.com/wp-content/uploads/2023/05/Tinker_lead2.jpg
END:VEVENT
BEGIN:VEVENT
DTSTART;VALUE=DATE:20230917
DTEND;VALUE=DATE:20231023
DTSTAMP:20260421T164643
CREATED:20230718T020013Z
LAST-MODIFIED:20231006T204946Z
UID:2183-1694908800-1698019199@tradersvillage.com
SUMMARY:Buscando Talento con David Olivarez
DESCRIPTION:Tejano Music Star David Olivarez is hosting his talent show Buscando Talento con David Olivarez at Traders Village Grand Prairie! Auditions start Sunday\, September 17th for 5 weeks. \nSept 17\, 24\, Oct 1\, Oct 8\, Oct 22\, Nov 5th \n11AM | Red Patio \n 
URL:https://tradersvillage.com/category/events/buscando-talento-con-david-olivarez/
LOCATION:Traders Village Grand Prairie\, 2602 Mayfield Road\, Grand Prairie\, TX\, 75052\, United States
CATEGORIES:Grand Prairie
ATTACH;FMTTYPE=image/jpeg:https://tradersvillage.com/wp-content/uploads/2023/07/DAvid-OlivarezJPEG.jpeg
END:VEVENT
BEGIN:VEVENT
DTSTART;VALUE=DATE:20231007
DTEND;VALUE=DATE:20231127
DTSTAMP:20260421T164643
CREATED:20230715T221613Z
LAST-MODIFIED:20240423T093523Z
UID:2135-1696636800-1701043199@tradersvillage.com
SUMMARY:CORNy Maze 2023
DESCRIPTION:Come to Traders Village weekends in October & November (starting October 7th) for the Traders Village “CORNY MAZE.” \nThe CORNy Maze is the ONLY Corn Maze in San Antonio & The Largest in South Texas!!! \n\n\n\n \n\n\nIt’s 10 acres of pure fun!!! Inside the maze are 3 trails:\n\n\n–Easy for little kids\n\n\n–Medium (30min – 1 hour)\n\n\n–Hard (1 1/2 hours – 2 hours)\n\n\n \n\n\nCost:\n\n\n$11.99 — Maze Wristband (persons 3 & older)\n\n\n            FREE — Kids 2 & under\n\n\n$17.99 — Maze & All-Day Ride Wristband\n[Rides are the 11 Carnival Rides at Traders Village — There are NO rides at the CORNy Maze]\n\n\n\n \n\nHOURS:\nSaturday: 10:00 am – 5:00 pm\nSunday:   10:00 am – 5:00 pm\n\n\n\n\n\nParking — $5 per vehicle\n\n\n \n\n\n\n\n\n**Due to inclement weather\, some days the Corny Maze may not open (Please checkout Facebook Page or call ahead: (210) 623-8383)\n\n\n \n\n\nLots of Activities at the Traders Village Corny Maze\n\n\n–HUGE Pumpkin Patch (pictures\, buy some to take home & paint)\n\n\n–Petting Zoo (FREE with admission)\n\n\n–Lots of Photo Ops\n–Duck Races\n–Axe Throwing (safe for kids)\n–Calf Roping\n–Inflatable Slide\n\n\n–Roasted Corn | Corn in a Cup | Popcorn\n\n\n–Concessions\n\n\n–Entertainment (occasionally)\n\n\n \n\n\n \n\n\nWhy drive out of town to pay more and get less?\n\n\nThe Traders Village Corn Maze is 10 acres!\n\n\nPlus you get Theme Park rides\, great shopping and lots of fun for less
URL:https://tradersvillage.com/category/events/corny-maze-2023/
LOCATION:TX
CATEGORIES:San Antonio
ATTACH;FMTTYPE=image/jpeg:https://tradersvillage.com/wp-content/uploads/2023/07/CM_Leader.jpg
END:VEVENT
BEGIN:VEVENT
DTSTART;TZID=America/Chicago:20231008T100000
DTEND;TZID=America/Chicago:20231008T160000
DTSTAMP:20260421T164643
CREATED:20231002T162627Z
LAST-MODIFIED:20231003T164449Z
UID:2591-1696759200-1696780800@tradersvillage.com
SUMMARY:ArtCar Show 2023
DESCRIPTION:If you’ve never been to an art car event in person\, you don’t know what you’re missing. It’s a chance to see a number of vehicles that have had their appearances modified in amazingly creative ways to become actual rolling pieces of art. Each art car is totally unique and captures the creator’s vision. \nArt Cars are a relatively new art form only coming to the forefront in the past 25 years. They all have one thing in common\, to take a factory-made automobile or truck and transform it into a personal statement or expression. Everyone will love the feeling of family and community\, plus the color and pageantry of the art car displays\, so bring your camera and your cool vibes\, be ready to experience a great day with amazing people! \nShow is FREE and only $5 parking. \nFor more information email Rebecca and Kristie prez@houstonartcarklub.com
URL:https://tradersvillage.com/category/events/artcar-show-2023/
LOCATION:TX
CATEGORIES:Houston
ATTACH;FMTTYPE=image/png:https://tradersvillage.com/wp-content/uploads/2023/10/ART-CAR-SHOW-2023-copy-1.png
ORGANIZER;CN="HACK":MAILTO:prez@houstonartcarklub.com
END:VEVENT
END:VCALENDAR