
BEGIN:VCALENDAR
VERSION:2.0
PRODID:-//Traders Village - ECPv6.15.20//NONSGML v1.0//EN
CALSCALE:GREGORIAN
METHOD:PUBLISH
X-ORIGINAL-URL:https://tradersvillage.com
X-WR-CALDESC:Events for Traders Village
REFRESH-INTERVAL;VALUE=DURATION:PT1H
X-Robots-Tag:noindex
X-PUBLISHED-TTL:PT1H
BEGIN:VTIMEZONE
TZID:America/Chicago
BEGIN:DAYLIGHT
TZOFFSETFROM:-0600
TZOFFSETTO:-0500
TZNAME:CDT
DTSTART:20220313T080000
END:DAYLIGHT
BEGIN:STANDARD
TZOFFSETFROM:-0500
TZOFFSETTO:-0600
TZNAME:CST
DTSTART:20221106T070000
END:STANDARD
BEGIN:DAYLIGHT
TZOFFSETFROM:-0600
TZOFFSETTO:-0500
TZNAME:CDT
DTSTART:20230312T080000
END:DAYLIGHT
BEGIN:STANDARD
TZOFFSETFROM:-0500
TZOFFSETTO:-0600
TZNAME:CST
DTSTART:20231105T070000
END:STANDARD
BEGIN:DAYLIGHT
TZOFFSETFROM:-0600
TZOFFSETTO:-0500
TZNAME:CDT
DTSTART:20240310T080000
END:DAYLIGHT
BEGIN:STANDARD
TZOFFSETFROM:-0500
TZOFFSETTO:-0600
TZNAME:CST
DTSTART:20241103T070000
END:STANDARD
BEGIN:DAYLIGHT
TZOFFSETFROM:-0600
TZOFFSETTO:-0500
TZNAME:CDT
DTSTART:20250309T080000
END:DAYLIGHT
BEGIN:STANDARD
TZOFFSETFROM:-0500
TZOFFSETTO:-0600
TZNAME:CST
DTSTART:20251102T070000
END:STANDARD
END:VTIMEZONE
BEGIN:VEVENT
DTSTART;TZID=America/Chicago:20231104T100000
DTEND;TZID=America/Chicago:20240303T170000
DTSTAMP:20260420T163336
CREATED:20231102T151905Z
LAST-MODIFIED:20240218T181842Z
UID:2758-1699092000-1709485200@tradersvillage.com
SUMMARY:Dinoscapes at Traders Village San Antonio
DESCRIPTION:Join us for the Dinoscapes exhibit only at Traders Village San Antonio! Families can have fun exploring and learning about prehistoric animals\, including a 26-foot Tyrannosaurus rex and 20 more life-size animatronic dinosaurs. \nThe Dinoscape exhibit will be here starting November 4\, 2023\, through March 3\, 2024! Admission is $5 per kiddo. Tickets can be purchased onsite.
URL:https://tradersvillage.com/event/dinoscapes-at-traders-village-san-antonio/
LOCATION:Traders Village San Antonio\, 9333 Southwest Loop 410\, San Antonio\, 78242\, United States
CATEGORIES:San Antonio
ATTACH;FMTTYPE=image/jpeg:https://tradersvillage.com/wp-content/uploads/2023/11/TVSA_DINO_200x440_11_23.jpg
END:VEVENT
BEGIN:VEVENT
DTSTART;TZID=America/Chicago:20231113T130000
DTEND;TZID=America/Chicago:20231224T170000
DTSTAMP:20260420T163336
CREATED:20231113T221827Z
LAST-MODIFIED:20231113T221827Z
UID:2800-1699880400-1703437200@tradersvillage.com
SUMMARY:Musica En Vivo Every Sunday
DESCRIPTION:Join us every Sunday under the Big Red Patio for Live music from 1pm-5pm. Featuring local bands and DJ’s playing Regional Mexican\, Cumbia and Tejano. \nBring the whole family and enjoy live music\, family fun\, shopping\, and amusement park rides! An ALL-DAY ride wristband starts at ONLY $14.99! \nTraders Village is located off Highway 360 in Grand Prairie.
URL:https://tradersvillage.com/category/events/musica-en-vivo-every-sunday/
LOCATION:TX
CATEGORIES:Grand Prairie
ATTACH;FMTTYPE=image/jpeg:https://tradersvillage.com/wp-content/uploads/2023/11/IMG_5658.jpg
END:VEVENT
BEGIN:VEVENT
DTSTART;VALUE=DATE:20231125
DTEND;VALUE=DATE:20231218
DTSTAMP:20260420T163336
CREATED:20231025T152421Z
LAST-MODIFIED:20240726T065923Z
UID:2734-1700870400-1702857599@tradersvillage.com
SUMMARY:Pictures With Santa
DESCRIPTION:Ho Ho Ho! Merry Christmas! Come take a family picture with Santa Claus at Traders Village. He will be here every weekend starting November 25th through December 17th. Photos brought to you by Grand Prairie Chamber of Commerce and start off at only $10 per picture. So come on down and see if you made the naughty or nice list. \nBring the whole family and enjoy live music\, family fun\, shopping\, and amusement park rides! An ALL-DAY ride wristband starts at ONLY $14.99! \nTraders Village is located off Highway 360 in Grand Prairie.
URL:https://tradersvillage.com/category/events/pictures-with-santa/
LOCATION:Traders Village Grand Prairie\, 2602 Mayfield Road\, Grand Prairie\, TX\, 75052\, United States
CATEGORIES:Grand Prairie
ATTACH;FMTTYPE=image/jpeg:https://tradersvillage.com/wp-content/uploads/2023/10/IMG_5303.jpg
END:VEVENT
END:VCALENDAR